BEGIN:VCALENDAR
VERSION:2.0
PRODID:-//KIK&scaron;tarter &ndash; Kreativna Industrija Kamnik - ECPv6.15.20//NONSGML v1.0//EN
CALSCALE:GREGORIAN
METHOD:PUBLISH
X-ORIGINAL-URL:https://kikstarter.si
X-WR-CALDESC:Dogodki za KIK&scaron;tarter &ndash; Kreativna Industrija Kamnik
REFRESH-INTERVAL;VALUE=DURATION:PT1H
X-Robots-Tag:noindex
X-PUBLISHED-TTL:PT1H
BEGIN:VTIMEZONE
TZID:Europe/Ljubljana
BEGIN:DAYLIGHT
TZOFFSETFROM:+0100
TZOFFSETTO:+0200
TZNAME:CEST
DTSTART:20230326T010000
END:DAYLIGHT
BEGIN:STANDARD
TZOFFSETFROM:+0200
TZOFFSETTO:+0100
TZNAME:CET
DTSTART:20231029T010000
END:STANDARD
BEGIN:DAYLIGHT
TZOFFSETFROM:+0100
TZOFFSETTO:+0200
TZNAME:CEST
DTSTART:20240331T010000
END:DAYLIGHT
BEGIN:STANDARD
TZOFFSETFROM:+0200
TZOFFSETTO:+0100
TZNAME:CET
DTSTART:20241027T010000
END:STANDARD
BEGIN:DAYLIGHT
TZOFFSETFROM:+0100
TZOFFSETTO:+0200
TZNAME:CEST
DTSTART:20250330T010000
END:DAYLIGHT
BEGIN:STANDARD
TZOFFSETFROM:+0200
TZOFFSETTO:+0100
TZNAME:CET
DTSTART:20251026T010000
END:STANDARD
END:VTIMEZONE
BEGIN:VEVENT
DTSTART;TZID=Europe/Ljubljana:20240517T160000
DTEND;TZID=Europe/Ljubljana:20240519T200000
DTSTAMP:20260419T143433
CREATED:20240201T172120Z
LAST-MODIFIED:20240503T072030Z
UID:11830-1715961600-1716148800@kikstarter.si
SUMMARY:Produktni start-up vikend- prestavljen na 11. oktober 2024
DESCRIPTION:DOGODEK JE PRESTAVLJEN NA OKTOBER 2024 in SICER BO POTEKAL MED 11. in 13. OKTOBROM 2024! \nZ velikim veseljem in pričakovanjem vas vabimo\, da se nam pridružite na Produktnem startup vikendu\, ki bo potekal od 17. do 19. maja v KIKštarterju. Ta dogodek je zasnovan kot intenzivna delavnica\, kjer se bodo združili umi iz vseh koncev Slovenije\, ne glede na vaše bivališče\, poklicno ozadje ali izkušnje v podjetništvu. Namenjen je posameznikom in ekipam\, ki želijo svoje inovativne ideje preoblikovati v delujoče produkte v zgolj enem vikendu. \nLetos bo vikend še posebej zanimiv\, saj Podjetniški klub Kamnik (PKK) in Občina Kamnik ponujata finančne nagrade za najboljše ideje: 1.200 € za prvo mesto\, 500 € za drugo mesto in 300 € za tretje mesto. To je izjemna priložnost za vse udeležence\, da ne samo predstavijo svoje ideje\, temveč tudi prejmejo finančno podporo za njihov nadaljnji razvoj. \nVse podrobnosti o dogodku\, vključno z informacijami o programu\, mentorjih in načinu prijave\, bomo pravočasno objavili. Pripravite se na vikend\, poln delavnic\, predavanj in mreženjskih priložnosti\, ki bodo vašim idejam nudile odlično podlago za razvoj. \nPridružite se nam v inovativnem okolju KIKštarterja za vikend\, poln ustvarjalnosti\, izmenjave znanj in sodelovanja. Ne zamudite priložnosti\, da postanete del skupnosti\, ki skupaj oblikuje prihodnost podjetništva. \nSodelovanje na dogodku je brezplačno\, a je zaradi omejenega števila mest potrebna predhodna prijava. Vpisati se je mogoče preko spletnega obrazca: KLIK KLIK. \nNe zamudite te izjemne priložnosti za učenje\, rast in mreženje. Veselimo se vašega sodelovanja in smo prepričani\, da bo tudi ta vikend postavil temelje za nove uspešne podjetniške zgodbe.
URL:https://kikstarter.si/event/produktni-start-up-vikend/
CATEGORIES:KIKštarter dogodki
ATTACH;FMTTYPE=image/jpeg:https://kikstarter.si/wp-content/uploads/2024/02/startup-vikend_produktni_izdelaj_prototip_3d_tiskanje-1-scaled.jpg
END:VEVENT
END:VCALENDAR