BEGIN:VCALENDAR
VERSION:2.0
PRODID:-//KIK&scaron;tarter &ndash; Kreativna Industrija Kamnik - ECPv6.15.20//NONSGML v1.0//EN
CALSCALE:GREGORIAN
METHOD:PUBLISH
X-WR-CALNAME:KIK&scaron;tarter &ndash; Kreativna Industrija Kamnik
X-ORIGINAL-URL:https://kikstarter.si
X-WR-CALDESC:Dogodki za KIK&scaron;tarter &ndash; Kreativna Industrija Kamnik
REFRESH-INTERVAL;VALUE=DURATION:PT1H
X-Robots-Tag:noindex
X-PUBLISHED-TTL:PT1H
BEGIN:VTIMEZONE
TZID:Europe/Ljubljana
BEGIN:DAYLIGHT
TZOFFSETFROM:+0100
TZOFFSETTO:+0200
TZNAME:CEST
DTSTART:20210328T010000
END:DAYLIGHT
BEGIN:STANDARD
TZOFFSETFROM:+0200
TZOFFSETTO:+0100
TZNAME:CET
DTSTART:20211031T010000
END:STANDARD
BEGIN:DAYLIGHT
TZOFFSETFROM:+0100
TZOFFSETTO:+0200
TZNAME:CEST
DTSTART:20220327T010000
END:DAYLIGHT
BEGIN:STANDARD
TZOFFSETFROM:+0200
TZOFFSETTO:+0100
TZNAME:CET
DTSTART:20221030T010000
END:STANDARD
BEGIN:DAYLIGHT
TZOFFSETFROM:+0100
TZOFFSETTO:+0200
TZNAME:CEST
DTSTART:20230326T010000
END:DAYLIGHT
BEGIN:STANDARD
TZOFFSETFROM:+0200
TZOFFSETTO:+0100
TZNAME:CET
DTSTART:20231029T010000
END:STANDARD
END:VTIMEZONE
BEGIN:VEVENT
DTSTART;TZID=Europe/Ljubljana:20220922T110000
DTEND;TZID=Europe/Ljubljana:20220922T130000
DTSTAMP:20260420T014026
CREATED:20220826T110730Z
LAST-MODIFIED:20220826T110730Z
UID:9283-1663844400-1663851600@kikstarter.si
SUMMARY:Zgodbarjenje na družbenih omrežjih
DESCRIPTION:Kar na lepem si se znašel / znašla v bazenu marketinga\, družbenih omrežij in vsakodnevnega pisanja besedil ter objav. Sprva je še nekako šlo\, a bolj kot si se poglabljal/a v kakovostno vsebino\, manj poguma za ustvarjanje ti je ostajalo. \n\n\n\n\n \n\n\n\n\nZdaj si na točki\, ko nočeš več delati “po starem” sistemu; striktno prodajna besedila ti niso v slast in želiš si nečesa novega\, nečesa drugačnega – a česa\, si še nisi na jasnem.  \n\n\n\n\n \n\n\n\n\nSi že slišal/a za izraz “zgodbarjenje” (ang: storytselling)? Gre za neke vrste marketinško pripovedništvo\, preplet kreativnega pisanja in (prodajnih) ciljev v ozadju. Zgodbe so namreč tiste\, za katere živimo\, ki jih dnevno dihamo\, ki nas navdihujejo\, h katerim se vedno znova vračamo in ki – če so zasnovane pravilno – na koncu dne tudi prodajajo. \n\n\n\n\n \n\n\n\n\nPred teboj je delavnica\, kjer boš spoznal/a zgodbarjenje družbenih omrežij in se naučil/a tudi sam/a pisati slastne (marketinške) pripovedi\, namesto oguljenih fraz in zoprnih striktno prodajnih tekstov. \n\n\n\n\n \n\n\n\n\nNa delavnici bo govora o teh tematikah: \n\n\n\n\n\n\nRazmislek o družbenih omrežjih kot zgolj o kanalu\, kjer imaš priložnost deliti vsebino in z njo graditi skupnost?\nKaj je v prvi vrsti sploh namen družbenih omrežij; kako igrati to igro in kako ostajati zvest/a svojim zgodbam? \n\n\n\n\n\n\nSpoznaj in ustvari besedilni “moodboard”\, kolaž besed\, po katerem te bodo bralci vedno  prepoznali \n\n\n\n\n\n\nOdnos (do stvari\, ljudi\, pojmov) je temelj tvojega posla\, pisanja in zgodbarjenja \n\n\n\n\n\n\nSkrivna sestavina vsake zgodbe – radovednost! Kako jo uporabiti kot povod za svojo kreativo; jo vključiti v pisanje in kakšen je njen namen v marketingu? \n\n\n\n\n\n\nNapake in spodrsljaji pri pisanju objav in pripovedi (s primeri vred) \n\n\n\n\n\n\nTaktike in prijemi pisanja\, ki na vseh kanalih spletnega okolja vedno “palijo”. \n\n\n\n\n\n\nPa še mnogo drugih poslastic – brez nakladanja! 🙂 \n\n\n\n\n\n\n\n\n\n\nCelotna 2-urna delavnica je podprta s praktičnimi primeri\, vajami in časom za tvoja vprašanja.\n\n\nDovolj je bilo suhoparnih tekstov\, čas je za zgodbe! Prideš na delavnico? 🙂\n\n\n\n\nPRIJAVE: https://forms.gle/KChUKbkEEjascnx36\n  \nŠtevilo mest je omejeno.\n\nUdeležba na delavnici je za člane Zadruge KIKštarter brezplačna\, za zunanje obiskovalce znaša 27€.
URL:https://kikstarter.si/event/zgodbarjenje-na-druzbenih-omrezjih/
CATEGORIES:KIKoff
ATTACH;FMTTYPE=:
END:VEVENT
END:VCALENDAR