BEGIN:VCALENDAR
VERSION:2.0
PRODID:-//KIK&scaron;tarter &ndash; Kreativna Industrija Kamnik - ECPv6.15.20//NONSGML v1.0//EN
CALSCALE:GREGORIAN
METHOD:PUBLISH
X-WR-CALNAME:KIK&scaron;tarter &ndash; Kreativna Industrija Kamnik
X-ORIGINAL-URL:https://kikstarter.si
X-WR-CALDESC:Dogodki za KIK&scaron;tarter &ndash; Kreativna Industrija Kamnik
REFRESH-INTERVAL;VALUE=DURATION:PT1H
X-Robots-Tag:noindex
X-PUBLISHED-TTL:PT1H
BEGIN:VTIMEZONE
TZID:Europe/Ljubljana
BEGIN:DAYLIGHT
TZOFFSETFROM:+0100
TZOFFSETTO:+0200
TZNAME:CEST
DTSTART:20230326T010000
END:DAYLIGHT
BEGIN:STANDARD
TZOFFSETFROM:+0200
TZOFFSETTO:+0100
TZNAME:CET
DTSTART:20231029T010000
END:STANDARD
BEGIN:DAYLIGHT
TZOFFSETFROM:+0100
TZOFFSETTO:+0200
TZNAME:CEST
DTSTART:20240331T010000
END:DAYLIGHT
BEGIN:STANDARD
TZOFFSETFROM:+0200
TZOFFSETTO:+0100
TZNAME:CET
DTSTART:20241027T010000
END:STANDARD
BEGIN:DAYLIGHT
TZOFFSETFROM:+0100
TZOFFSETTO:+0200
TZNAME:CEST
DTSTART:20250330T010000
END:DAYLIGHT
BEGIN:STANDARD
TZOFFSETFROM:+0200
TZOFFSETTO:+0100
TZNAME:CET
DTSTART:20251026T010000
END:STANDARD
END:VTIMEZONE
BEGIN:VEVENT
DTSTART;TZID=Europe/Ljubljana:20241015T170000
DTEND;TZID=Europe/Ljubljana:20241112T210000
DTSTAMP:20260422T031332
CREATED:20241126T082325Z
LAST-MODIFIED:20241126T082325Z
UID:12534-1729011600-1731445200@kikstarter.si
SUMMARY:Digi ustvarjalnica za študente – ustvarjanje prihodnosti z digitalnimi in podjetniškimi veščinami
DESCRIPTION:Študentje\, pridružite se nam na edinstveni delavnici\, zasnovani posebej za vas! Razvijte digitalne spretnosti\, spoznajte svet podjetništva in odkrijte\, kako lahko s tehnologijo oblikujete prihodnost. Delavnica bo potekala v štirih terminih: \n\n15. oktober 2024\, 17:00-21:00\n22. oktober 2024\, 17:00-22:00\n5. november 2024\, 17:00-21:00\n12. november 2024\, 17:00-21:00\n\nKaj ponujamo? \n\nDigitalna strategija in etika\nRaziskovanje ključnih vprašanj digitalne dobe: \n\nkako učinkovito oblikovati svojo digitalno prisotnost\,\nodgovorno ravnanje z osebnimi podatki\,\netični izzivi umetne inteligence in tehnologij prihodnosti.\n\n\nNapredno upravljanje podatkov in analitika\nSpoznavanje analitičnih orodij\, kot so Python\, R ali Tableau. Aktivnosti vključujejo: \n\nanalizo podatkov iz realnih primerov\,\nustvarjanje vizualnih poročil\,\nuporabo analitike za sprejemanje poslovnih odločitev.\n\n\nUmetna inteligenca v praksi\nPraktične delavnice z uporabo AI orodij za reševanje konkretnih izzivov: \n\navtomatizacija procesov s pomočjo umetne inteligence\,\nustvarjanje vsebin z AI orodji\, kot so ChatGPT\, DALL-E in drugi\,\nrazumevanje osnov AI modelov in njihove uporabe v podjetništvu.\n\n\nPodjetniški pristop – od ideje do poslovnega modela\nS pomočjo ekipe KIKštarterja boste spoznali: \n\nkako oblikovati učinkovito poslovno strategijo\,\nkako prepoznati priložnosti na trgu\,\nosnove pitchanja in predstavitve poslovnih idej pred investitorji.\n\n\nZaključni projekt – od ideje do prototipa\nUdeleženci bodo delali na inovativnem projektu\, ki bo združil digitalne in podjetniške veščine. Vsaka ekipa bo oblikovala rešitev za konkretni problem ter na koncu pripravila predstavitev prototipa.\n\nKomu je delavnica namenjena?\nDelavnica je namenjena študentom\, starim od 18 do 26 let\, ne glede na študijsko smer. Za udeležbo ni potrebno predhodno znanje – iščemo le motivacijo in željo po učenju! \nŠtevilo mest je omejeno na 10 udeležencev\, da zagotovimo kakovostno in individualno izkušnjo. \nPrijave in dodatne informacije\nDelavnica je brezplačna\, vendar je obvezna predhodna prijava na info@kikstarter.si ali 040 665 343 (Nika). \nZa več informacij nas kontaktirajte na info@kikstarter.si. \n\nZakaj sodelovati?\nTa delavnica je vaša priložnost za: \n\nnadgradnjo digitalnih kompetenc\,\npridobivanje podjetniških veščin\,\nmreženje z vrstniki in strokovnjaki\,\nspoznavanje sodobnih tehnologij v praksi.\n\nProjekt Znanje za digitalno delovanje je bil izbran na razpisu za sofinanciranje usposabljanj otrok in mladih za krepitev digitalnih kompetenc ter spodbujanje in promocijo naravoslovnih in tehniških poklicev. Projekt sofinancira Ministrstvo za digitalno preobrazbo. \n#digiSI \nsrenješolce
URL:https://kikstarter.si/event/digi-ustvarjalnica-za-studente-ustvarjanje-prihodnosti-z-digitalnimi-in-podjetniskimi-vescinami/
CATEGORIES:Znanje za digitalno delovanje
ATTACH;FMTTYPE=image/jpeg:https://kikstarter.si/wp-content/uploads/2024/11/Banner-KIKstarter-1-scaled.jpg
END:VEVENT
END:VCALENDAR