BEGIN:VCALENDAR
VERSION:2.0
PRODID:-//KIK&scaron;tarter &ndash; Kreativna Industrija Kamnik - ECPv6.15.20//NONSGML v1.0//EN
CALSCALE:GREGORIAN
METHOD:PUBLISH
X-WR-CALNAME:KIK&scaron;tarter &ndash; Kreativna Industrija Kamnik
X-ORIGINAL-URL:https://kikstarter.si
X-WR-CALDESC:Dogodki za KIK&scaron;tarter &ndash; Kreativna Industrija Kamnik
REFRESH-INTERVAL;VALUE=DURATION:PT1H
X-Robots-Tag:noindex
X-PUBLISHED-TTL:PT1H
BEGIN:VTIMEZONE
TZID:Europe/Ljubljana
BEGIN:DAYLIGHT
TZOFFSETFROM:+0100
TZOFFSETTO:+0200
TZNAME:CEST
DTSTART:20230326T010000
END:DAYLIGHT
BEGIN:STANDARD
TZOFFSETFROM:+0200
TZOFFSETTO:+0100
TZNAME:CET
DTSTART:20231029T010000
END:STANDARD
BEGIN:DAYLIGHT
TZOFFSETFROM:+0100
TZOFFSETTO:+0200
TZNAME:CEST
DTSTART:20240331T010000
END:DAYLIGHT
BEGIN:STANDARD
TZOFFSETFROM:+0200
TZOFFSETTO:+0100
TZNAME:CET
DTSTART:20241027T010000
END:STANDARD
BEGIN:DAYLIGHT
TZOFFSETFROM:+0100
TZOFFSETTO:+0200
TZNAME:CEST
DTSTART:20250330T010000
END:DAYLIGHT
BEGIN:STANDARD
TZOFFSETFROM:+0200
TZOFFSETTO:+0100
TZNAME:CET
DTSTART:20251026T010000
END:STANDARD
END:VTIMEZONE
BEGIN:VEVENT
DTSTART;TZID=Europe/Ljubljana:20240529T140000
DTEND;TZID=Europe/Ljubljana:20240529T190000
DTSTAMP:20260421T194736
CREATED:20240207T122404Z
LAST-MODIFIED:20240507T105558Z
UID:11868-1716991200-1717009200@kikstarter.si
SUMMARY:Delavnica: Uporaba SEO- optimizacija spletnih strani za priložnosti v podjetništvu
DESCRIPTION:KIKštarter Kamnik vabi na delavnico: Uporaba Spletnega brskalnika SEO – priložnosti v podjetništvu. \nCilj delavnice je raziskati moč Search Engine Optimization (SEO) in kako ga lahko izkoristite za izboljšanje vidljivosti vašega podjetja na spletu ter dosego vaših poslovnih ciljev. Skozi delavnico bomo spoznali ključne koncepte SEO\, najboljše prakse ter strategije\, ki vam bodo pomagale doseči boljše uvrstitve na iskalnikih. \nKratica SEO v sebi skriva pojem Search Engine Optimization (slo. optimizacija spletnih strani). Gre za postopek\, s katerim lahko dosežete visoke pozicije vaše spletne strani v spletnih iskalnikih\, kot so Google\, Yahoo\, Bing in drugi.  \nAgenda delavnice: \n1.     Kaj je SEO in zakaj je pomemben za podjetništvo? \n\nRazumevanje delovanja spletnih iskalnikov.\nPrednosti dobre SEO strategije za vaše podjetje.\n\n2.     Ključni elementi uspešnega SEO: \n\nKljučne besede: kako raziskati\, izbrati in uporabiti prave ključne besede za vaše podjetje.\nOptimizacija vsebine: pisanje privlačnih in relevantnih vsebin za obiskovalce in iskalnike.\nTehnična optimizacija: izboljšanje tehničnih vidikov vaše spletne strani za boljšo indeksacijo in uvrstitve.\nOn-page in off-page optimizacija:\nOn-page optimizacija: optimizacija naslovov\, meta opisov\, URL-jev\, slik\, itd.\nOff-page optimizacija: pomen pridobivanja kakovostnih povezav in gradnja ugleda na spletu.\n\n3.     Lokalni SEO: \n\nKako izboljšati lokalno prisotnost vašega podjetja na spletu.\nUporaba Google My Business in drugih orodij za lokalno SEO.\n\n4.     Analiza rezultatov in orodja za SEO: \n\nUporaba orodij za spremljanje in analizo učinkovitosti vaše SEO strategije.\nRazumevanje ključnih metrik in kako izboljšati rezultate.\n\n5.     SEO trendi in prihodnost: \n\nPregled najnovejših trendov in sprememb v SEO svetu.\nKako ostati korak pred konkurenco in prilagajati vašo SEO strategijo.\n\n6.     Praktične vaje: \n\nInteraktivne vaje za optimizacijo vsebin\, naslovov\, meta opisov itd.\nAnaliza ključnih besed in identifikacija priložnosti za izboljšanje.\nDeljenje izkušenj in reševanje konkretnih izzivov udeležencev.\nPostavljanje ciljev in merljivih kazalnikov uspeha\n\n7.     Uspešne zgodbe in primeri uporabe SEO: \n\nPregled primerov podjetij\, ki so uspešno izkoristila SEO za rast svojega poslovanja.\nUčenje iz primerov najboljših praks in pridobivanje navdihujočih idej za svoje podjetje.\n\n8.     SEO in družbena omrežja: \n\nKako integrirati SEO strategijo v vaše družbene medijske aktivnosti.\nUporaba ključnih besed\, optimizacija profila in objav za večjo vidnost.\n\n9. Lokalno oglaševanje in SEO: \n\nKako povezati SEO in lokalno oglaševanje za boljše rezultate.\nIzraba lokalnih imenikov\, ocen in pregledov za izboljšanje SEO.\n\n10.Etika in dolgoročni pristop k SEO: \n\nPomen etičnega pristopa k SEO in izogibanje “črnim” tehnikam.\nGradnja trajne SEO strategije za dolgoročno uspešnost.\n\n11. Pogled v prihodnost SEO: \n\nKako se spreminjajo iskalniki in kako se prilagoditi novim trendom.\nVpliv umetne inteligence in naprednih tehnologij na prihodnost SEO.\nUporaba ChatGPT in SEO:\nKako uporabiti ChatGPT in SEO za razvoj vaše podjetniške prezence?\n\n12. Zaključek in načrtovanje naslednjih korakov: \n\nKako uporabiti pridobljeno znanje in implementirati SEO v vaše podjetje.\n\n  \nPREDAVATELJ: Matija Zajšek  \nMatija Zajšek o sebi pravi:” Čez 10 let že samostojno prodajam in izobražujem o izboljšanju spletne prodaje. Podjetnikom pomagam predvsem kot strokovnjak za digitalni marketing iz izkušenj in prakse. V povprečju\, na leto\, izobražujem cca. 65 različno velikih podjetij in posameznikov\, ki prav tako kot vi\, želijo izboljšati svoje prodajne rezultate preko spleta. Na podlagi izkušenj\, pridobljenih iz prodaje na lastnih spletnih straneh\, 100% stojim za tem\, da bo vaša spletna prodaja\, v sodelovanju z mano\, napredovala. 100% zagotavljam\, da boste pridobivali nove kupce oz. da boste preko interneta\, povečevali prodajo (ali obisk spletne strani) – ob pogoju\, če boste podane nasvete in priporočila\, dejansko tudi izvajali v praksi.” \nPRIJAVE PREKO OBRAZCA: KLIK KLIK ZA OBRAZEC \nDogodek je za člane KIKštarterja brezplačen\, za zunanje udeležence pa stane udeležba 50€+DDV.
URL:https://kikstarter.si/event/delavnica-uporaba-seo-optimizacija-spletnih-strani-za-priloznosti-v-podjetnistvu/
ATTACH;FMTTYPE=image/jpeg:https://kikstarter.si/wp-content/uploads/2024/02/seo_optimizacija_spletnih_trgovin_google_oglasevanje-scaled.jpg
END:VEVENT
END:VCALENDAR