BEGIN:VCALENDAR
VERSION:2.0
PRODID:-//KIK&scaron;tarter &ndash; Kreativna Industrija Kamnik - ECPv6.15.20//NONSGML v1.0//EN
CALSCALE:GREGORIAN
METHOD:PUBLISH
X-WR-CALNAME:KIK&scaron;tarter &ndash; Kreativna Industrija Kamnik
X-ORIGINAL-URL:https://kikstarter.si
X-WR-CALDESC:Dogodki za KIK&scaron;tarter &ndash; Kreativna Industrija Kamnik
REFRESH-INTERVAL;VALUE=DURATION:PT1H
X-Robots-Tag:noindex
X-PUBLISHED-TTL:PT1H
BEGIN:VTIMEZONE
TZID:Europe/Ljubljana
BEGIN:DAYLIGHT
TZOFFSETFROM:+0100
TZOFFSETTO:+0200
TZNAME:CEST
DTSTART:20250330T010000
END:DAYLIGHT
BEGIN:STANDARD
TZOFFSETFROM:+0200
TZOFFSETTO:+0100
TZNAME:CET
DTSTART:20251026T010000
END:STANDARD
BEGIN:DAYLIGHT
TZOFFSETFROM:+0100
TZOFFSETTO:+0200
TZNAME:CEST
DTSTART:20260329T010000
END:DAYLIGHT
BEGIN:STANDARD
TZOFFSETFROM:+0200
TZOFFSETTO:+0100
TZNAME:CET
DTSTART:20261025T010000
END:STANDARD
BEGIN:DAYLIGHT
TZOFFSETFROM:+0100
TZOFFSETTO:+0200
TZNAME:CEST
DTSTART:20270328T010000
END:DAYLIGHT
BEGIN:STANDARD
TZOFFSETFROM:+0200
TZOFFSETTO:+0100
TZNAME:CET
DTSTART:20271031T010000
END:STANDARD
END:VTIMEZONE
BEGIN:VEVENT
DTSTART;TZID=Europe/Ljubljana:20260409T090000
DTEND;TZID=Europe/Ljubljana:20260409T100000
DTSTAMP:20260421T051738
CREATED:20260407T043127Z
LAST-MODIFIED:20260407T043717Z
UID:13799-1775725200-1775728800@kikstarter.si
SUMMARY:Predstavitev 6. Vseslovenskega turističnega start-up vikenda
DESCRIPTION:Ste navdušeni nad turizmom in inovacijami? Vas zanima\, kako vaše ideje lahko prispevajo k razvoju turistične ponudbe v Sloveniji? Ali ste lastnik turističnega podjetja\, ki želi oblikovati nov turistični produkt ali storitev? Pridružite se nam na ekskluzivnem online dogodku\, kjer bomo podrobno predstavili\, kaj prinaša 6. Vseslovenski turistični start-up vikend\, ki bo potekal med 10. in 12. aprilom 2026v KIKštarterju v Kamniku. \nKdaj: Četrtek\, 9. april 2026 ob 9.00\nKje: Online (povezavo do dogodka prejmete ob prijavi)\nPrijave: KLIK KLIK \nNa dogodku bo Nikolaja Škrjanec\,  koordinatorica dogodka\, predstavila vse\, kar morate vedeti o prihajajočem start-up vikendu: od poteka dogodka\, preko pogojev sodelovanja\, do nagrad\, ki jih lahko osvojijo udeleženci. Razkrili bomo tudi podrobnosti o razpisu Občine Kamnik\, ki podpira realizacijo najboljših turističnih idej. \nPoleg tega se nam bodo pridružili predstavniki Turizma Ljubljana in Visit Kamnik\, ki bodo delili vpogled v trenutne trende in priložnosti v turizmu ter kako novi projekti lahko obogatijo lokalno turistično ponudbo ter seveda\, kakšne turistične ideje so najbolj priljubljene pri turistih. \nTa dogodek je nepogrešljiva priložnost za: \n\nMlade podjetnike in start-upe\, ki želijo svoje ideje preoblikovati v uspešne turistične projekte.\nŠtudente in profesionale iz turistične panoge\, ki iščejo inspiracijo in znanje za naslednji korak v svoji karieri.\nLastnike obstoječih turističnih podjetij\, ki iščejo priložnosti za razvoj novih produktov ali storitev.\nVse\, ki jih zanima turizem in bi radi prispevali k njegovemu razvoju.\n\nZakaj se udeležiti? \n\nIzvedeli boste vse o enem najbolj pričakovanih dogodkov v turistični panogi leta 2026.\nSpoznali boste\, kako lahko vaša ideja pridobi podporo in sredstva za realizacijo.\nMrežili se boste lahko z vodilnimi akterji v slovenskem turizmu.\n\nNe zamudite te edinstvene priložnosti\, da postanete del prihodnosti slovenskega turizma. Prijavite se zdaj! \nUtrinki iz prejšnjih turističnih start-up vikendov: \n5. Vseslovenski turistični start-up vikend \n4. Vseslovenski turistični start-up vikend \n3. Vseslovenski turistični start-up vikend
URL:https://kikstarter.si/event/predstavitev-6-vseslovenskega-turisticnega-start-up-vikenda/
CATEGORIES:KIKštarter dogodki
ATTACH;FMTTYPE=image/jpeg:https://kikstarter.si/wp-content/uploads/2026/04/Predstavitev-startup-vikenda-scaled.jpg
END:VEVENT
END:VCALENDAR