BEGIN:VCALENDAR
VERSION:2.0
PRODID:-//KIK&scaron;tarter &ndash; Kreativna Industrija Kamnik - ECPv6.15.20//NONSGML v1.0//EN
CALSCALE:GREGORIAN
METHOD:PUBLISH
X-WR-CALNAME:KIK&scaron;tarter &ndash; Kreativna Industrija Kamnik
X-ORIGINAL-URL:https://kikstarter.si
X-WR-CALDESC:Dogodki za KIK&scaron;tarter &ndash; Kreativna Industrija Kamnik
REFRESH-INTERVAL;VALUE=DURATION:PT1H
X-Robots-Tag:noindex
X-PUBLISHED-TTL:PT1H
BEGIN:VTIMEZONE
TZID:Europe/Ljubljana
BEGIN:DAYLIGHT
TZOFFSETFROM:+0100
TZOFFSETTO:+0200
TZNAME:CEST
DTSTART:20240331T010000
END:DAYLIGHT
BEGIN:STANDARD
TZOFFSETFROM:+0200
TZOFFSETTO:+0100
TZNAME:CET
DTSTART:20241027T010000
END:STANDARD
BEGIN:DAYLIGHT
TZOFFSETFROM:+0100
TZOFFSETTO:+0200
TZNAME:CEST
DTSTART:20250330T010000
END:DAYLIGHT
BEGIN:STANDARD
TZOFFSETFROM:+0200
TZOFFSETTO:+0100
TZNAME:CET
DTSTART:20251026T010000
END:STANDARD
BEGIN:DAYLIGHT
TZOFFSETFROM:+0100
TZOFFSETTO:+0200
TZNAME:CEST
DTSTART:20260329T010000
END:DAYLIGHT
BEGIN:STANDARD
TZOFFSETFROM:+0200
TZOFFSETTO:+0100
TZNAME:CET
DTSTART:20261025T010000
END:STANDARD
END:VTIMEZONE
BEGIN:VEVENT
DTSTART;TZID=Europe/Ljubljana:20250404T160000
DTEND;TZID=Europe/Ljubljana:20250406T200000
DTSTAMP:20260420T041219
CREATED:20250212T150050Z
LAST-MODIFIED:20250403T112600Z
UID:12729-1743782400-1743969600@kikstarter.si
SUMMARY:5. Vseslovenski turistični start-up vikend
DESCRIPTION:Pridružite se edinstveni priložnosti za inovacije v turizmu!\nKdaj? 4. – 6. april 2025\nKje? KIKštarter\, Kamnik \nTurizem je ena najhitreje rastočih panog\, polna priložnosti za nove in inovativne ideje. Če ste podjetnik\, ustvarjalec\, študent ali nekdo\, ki želi spremeniti prihodnost turizma\, potem je ta dogodek kot nalašč za vas! \nKaj vas čaka?\n\nIntenzivne delavnice in mentoriranje – učite se od najboljših strokovnjakov iz turizma in podjetništva.\nSodelovanje z izkušenimi mentorji – razvijajte svoje ideje s pomočjo vodilnih v industriji.\nPriložnost za razvoj lastnega turističnega startup projekta – delajte v ekipi ali samostojno in razvijajte inovativne rešitve.\nFinalne predstavitve pred komisijo in investitorji – najboljši projekti bodo prejeli podporo in nagrade!\n\nKomu je dogodek namenjen?\n\nPodjetnikom in startup ekipam\, ki razvijajo inovativne turistične rešitve.\nŠtudentom in mladim\, ki jih zanima podjetništvo in turizem.\nKreativnim posameznikom\, ki iščejo nove izzive in priložnosti.\nVsem\, ki želijo aktivno soustvarjati prihodnost slovenskega turizma.\n\nKaj pridobite?\n\nNova znanja in vpogled v sodobne trende v turizmu.\nPovezave z industrijskimi strokovnjaki in investitorji.\nMožnost osvojitve finančnih in drugih nagrad za najboljše ideje.\n\nMentorji in sodelujoči (po abecednem vrstnem redu):\n\nMatjaž Jug\, ustanovitelj in direktor agencije ETC Adriatic d.o.o.\, predsednik Podjetniškega kluba Kamnik\nRudi Medved\, vodja Art hotela Tartini in del platforme World Discovry\nSandi Mujejlič\, podjetnik\nNace Novak\, podjetnik\nDejan Ristič\, višji svetovalec za razvoj infrastrukture pri Turizmu Ljubljana\nLuka Svetec\, direktor Zavoda za turizem in šport Kamnik\nPetra Stušek\, direktorica Turizma Ljubljana\nNika Škrjanec\, vodja KIKštarterja\nTomaž Štefe\, direktor Velike planine d.o.o.\nGreg Ugovšek\, soustanovitelj ETC Adriatic d.o.o. in ustanovitelj Greentovcev- turistične agencije za Kamniško-Savinjske Alpe\n\nNagradni sklad\n🏆 Nagradni sklad Podjetniškega kluba Kamnik znaša 2000€. \n🏆Nagradni sklad Zadruge KIKštarter z.b.o. znaša 5000€. (brezplačna uporaba pisarne za 3 mesece\, mentorska pomoč ter sklad za plačilo stroškov v višino 5000€). \n🏆Članstvo v Združenju YES za eno osebo (vrednost nagrade 860€) \n🏆 Posebna nagrada Velike planine d.o.o. za razvoj ideje vezane neposredno na območje Velike planine \nPRIJAVE NA DOGODEK: KLIK KLIK \nKaj je startup vikend?\nStartup vikend je intenziven večdnevni dogodek\, kjer posamezniki z različnimi znanji in izkušnjami sodelujejo pri razvoju in validaciji inovativnih poslovnih idej. V kratkem času ekipe oblikujejo svoje koncepte\, jih preverijo z mentorji in strokovnjaki ter jih na koncu predstavijo pred komisijo. Dogodek je priložnost za učenje\, mreženje in razvoj novih rešitev\, ki lahko prerastejo v uspešne podjetniške zgodbe. \nReportaža iz 4. Vseslovenskega turističnega start-up vikenda \nReportaža iz 3. Vseslovenskega turističnega start-up vikenda \nPODROBNO O DOGODKU \nPetek\, 4. april 2025: \n\n16:00 do 16:15: Zbor in registracija udeležencev.\nPozdravni govor in uvod v dogodek.\nPredstavitev izziva in uvodne delavnice\, kjer bodo udeleženci spoznali ključne koncepte za razvoj turističnih projektov.\nVečer se zaključi z brainstormingom in uvodom v produktni canvas na primeru turizma.\n\nSobota\, 5. april 2025: \n\nDan začnemo z zborom udeležencev in nadaljujemo z delavnicami\, ki pokrivajo različne vidike razvoja turizma\, od ideje do realizacije.\nUdeleženci bodo imeli priložnost za delo z mentorji\, ki jim bodo pomagali pri razvoju njihovih projektov.\nDan se zaključi s predstavitvijo pred komisijo v polfinalu in razglasitvijo finalistov.\n\nNedelja\, 6. april 2025: \n\nDan začnemo z delavnicami o financiranju in povratnih ter nepovratnih sredstvih.\nSledi priprava na finalne predstavitve\, vključno s generalno vajo.\nPopoldne je namenjeno finalnim predstavitvam pred komisijo.\nDogodek se zaključi z okroglo mizo na temo prihodnosti razvoja turizma in razglasitvijo nagrajencev\, temu sledi druženje in pogostitev.\n\nLetošnji vikend obljublja še več priložnosti za učenje\, izmenjavo znanj in izkušenj ter za mreženje z drugimi podjetniki in strokovnjaki s področja turizma. Program bo poln delavnic\, predavanj in praktičnih primerov\, ki bodo služili kot odlična priložnost za vse\, ki želijo svoje turistične ideje pretvoriti v uspešne projekte\, poleg tega pa se obetajo tudi nagrade\, ki bodo omogočile hitrejši razvoj turistične ideje in lažji vstop na trg. \nPartnerji dogodka so poleg KIKštarterja še Podjetniški klub Kamnik\, Zavod za turizem in šport Kamnik\, Javni zavod Turizem Ljubljana  ter Občina Kamnik.
URL:https://kikstarter.si/event/5-vseslovenski-tursticni-start-up-vikend/
CATEGORIES:KIKštarter dogodki
ATTACH;FMTTYPE=image/png:https://kikstarter.si/wp-content/uploads/2025/02/5.-VSESLOVENSKI-TURISTICNI.png
END:VEVENT
BEGIN:VEVENT
DTSTART;TZID=Europe/Ljubljana:20250321T100000
DTEND;TZID=Europe/Ljubljana:20250321T110000
DTSTAMP:20260420T041219
CREATED:20250312T184735Z
LAST-MODIFIED:20250318T080642Z
UID:12781-1742551200-1742554800@kikstarter.si
SUMMARY:Predstavitev 5. Vseslovenskega turističnega start-up vikenda
DESCRIPTION:Ste navdušeni nad turizmom in inovacijami? Vas zanima\, kako vaše ideje lahko prispevajo k razvoju turistične ponudbe v Sloveniji? Ali ste lastnik turističnega podjetja\, ki želi oblikovati nov turistični produkt ali storitev? Pridružite se nam na ekskluzivnem online dogodku\, kjer bomo podrobno predstavili\, kaj prinaša 5. Vseslovenski turistični start-up vikend\, ki bo potekal med 4. in 6. aprilom 2025 v KIKštarterju v Kamniku. \nKdaj: Sreda\, 21. marec 2025 ob 10.oo\nKje: Online (povezavo do dogodka prejmete ob prijavi)\nPrijave: KLIK KLIK \nNa dogodku bo Nikolaja Škrjanec\, glavna koordinatorica dogodka\, predstavila vse\, kar morate vedeti o prihajajočem start-up vikendu: od poteka dogodka\, preko pogojev sodelovanja\, do nagrad\, ki jih lahko osvojijo udeleženci. Razkrili bomo tudi podrobnosti o razpisu Občine Kamnik\, ki podpira realizacijo najboljših turističnih idej. \nPoleg tega se nam bodo pridružili predstavniki Turizma Ljubljana in Visit Kamnik\, ki bodo delili vpogled v trenutne trende in priložnosti v turizmu ter kako novi projekti lahko obogatijo lokalno turistično ponudbo. \nTa dogodek je nepogrešljiva priložnost za: \n\nMlade podjetnike in start-upe\, ki želijo svoje ideje preoblikovati v uspešne turistične projekte.\nŠtudente in profesionale iz turistične panoge\, ki iščejo inspiracijo in znanje za naslednji korak v svoji karieri.\nLastnike obstoječih turističnih podjetij\, ki iščejo priložnosti za razvoj novih produktov ali storitev.\nVse\, ki jih zanima turizem in bi radi prispevali k njegovemu razvoju.\n\nZakaj se udeležiti? \n\nIzvedeli boste vse o enem najbolj pričakovanih dogodkov v turistični panogi leta 2024.\nSpoznali boste\, kako lahko vaša ideja pridobi podporo in sredstva za realizacijo.\nMrežili se boste lahko z vodilnimi akterji v slovenskem turizmu.\n\nNe zamudite te edinstvene priložnosti\, da postanete del prihodnosti slovenskega turizma. Prijavite se zdaj! \nUtrinki iz prejšnjih turističnih start-up vikendov: \n4. Vseslovenski turistični start-up vikend \n3. Vseslovenski turistični start-up vikend \n2. Vseslovenski turistični start-up vikend \n1. Vseslovenski turistični start-up vikend
URL:https://kikstarter.si/event/predstavitev-5-vseslovenskega-turisticnega-start-up-vikenda/
CATEGORIES:KIKštarter dogodki
ATTACH;FMTTYPE=image/jpeg:https://kikstarter.si/wp-content/uploads/2025/03/Predstavitev-5.-Vseslovenskega-turisticnega-start-up-vikenda-scaled.jpg
END:VEVENT
END:VCALENDAR